BEGIN:VCALENDAR
VERSION:2.0
PRODID:-//Maryland TraumaNET - ECPv6.10.0//NONSGML v1.0//EN
CALSCALE:GREGORIAN
METHOD:PUBLISH
X-ORIGINAL-URL:https://www.maryland-traumanet.com
X-WR-CALDESC:Events for Maryland TraumaNET
REFRESH-INTERVAL;VALUE=DURATION:PT1H
X-Robots-Tag:noindex
X-PUBLISHED-TTL:PT1H
BEGIN:VTIMEZONE
TZID:America/New_York
BEGIN:DAYLIGHT
TZOFFSETFROM:-0500
TZOFFSETTO:-0400
TZNAME:EDT
DTSTART:20250309T070000
END:DAYLIGHT
BEGIN:STANDARD
TZOFFSETFROM:-0400
TZOFFSETTO:-0500
TZNAME:EST
DTSTART:20251102T060000
END:STANDARD
END:VTIMEZONE
BEGIN:VEVENT
DTSTART;TZID=America/New_York:20250513T074500
DTEND;TZID=America/New_York:20250514T153000
DTSTAMP:20260423T184609
CREATED:20250106T200101Z
LAST-MODIFIED:20250106T200101Z
UID:7765-1747122300-1747236600@www.maryland-traumanet.com
SUMMARY:ESTES/AAST Emergency Surgery Course
DESCRIPTION:The ESC aims to aid surgeons in non-trauma emergency surgery by providing the know-how and the decision-making skills necessary for daily practice. The course consists of theoretical sessions\, case scenarios\, and state-of-the-art videos. The course is especially designed in an interactive from the beginning until the end. \nMay 13th\, 2025\, 7:45AM – 5:00PM EST \nMay 14th\, 2025\, 8:00am – 3:30pm EST \nHybrid Course \nMore Info: ESTES/AAST Emergency Surgery Course
URL:https://www.maryland-traumanet.com/event/estes-aast-emergency-surgery-course/
LOCATION:Shock Trauma Simulation Center\, 22 South Greene Street (T1S11)\, Baltimore\, MD\, 21201\, United States
CATEGORIES:Education
ATTACH;FMTTYPE=image/jpeg:https://www.maryland-traumanet.com/wp-content/uploads/2025/01/AAST-Emergency-Surgery-Course-2025-scaled.jpg
END:VEVENT
END:VCALENDAR